BEGIN:VCALENDAR
VERSION:2.0
PRODID:-//ACE Traductores - ECPv6.15.20//NONSGML v1.0//EN
CALSCALE:GREGORIAN
METHOD:PUBLISH
X-WR-CALNAME:ACE Traductores
X-ORIGINAL-URL:https://ace-traductores.org
X-WR-CALDESC:Eventos para ACE Traductores
REFRESH-INTERVAL;VALUE=DURATION:PT1H
X-Robots-Tag:noindex
X-PUBLISHED-TTL:PT1H
BEGIN:VTIMEZONE
TZID:Europe/Helsinki
BEGIN:DAYLIGHT
TZOFFSETFROM:+0200
TZOFFSETTO:+0300
TZNAME:EEST
DTSTART:20190331T010000
END:DAYLIGHT
BEGIN:STANDARD
TZOFFSETFROM:+0300
TZOFFSETTO:+0200
TZNAME:EET
DTSTART:20191027T010000
END:STANDARD
BEGIN:DAYLIGHT
TZOFFSETFROM:+0200
TZOFFSETTO:+0300
TZNAME:EEST
DTSTART:20200329T010000
END:DAYLIGHT
BEGIN:STANDARD
TZOFFSETFROM:+0300
TZOFFSETTO:+0200
TZNAME:EET
DTSTART:20201025T010000
END:STANDARD
BEGIN:DAYLIGHT
TZOFFSETFROM:+0200
TZOFFSETTO:+0300
TZNAME:EEST
DTSTART:20210328T010000
END:DAYLIGHT
BEGIN:STANDARD
TZOFFSETFROM:+0300
TZOFFSETTO:+0200
TZNAME:EET
DTSTART:20211031T010000
END:STANDARD
END:VTIMEZONE
BEGIN:VEVENT
DTSTART;TZID=Europe/Helsinki:20200127T190000
DTEND;TZID=Europe/Helsinki:20200127T203000
DTSTAMP:20260425T031129
CREATED:20200118T122157Z
LAST-MODIFIED:20220921T092714Z
UID:6517-1580151600-1580157000@ace-traductores.org
SUMMARY:Madrid: Próxima sesión del Club de Lectura (Traducida)
DESCRIPTION:El lunes 27 de enero \, a las 19:00 h\, celebramos una nueva sesión del Club de Lectura (Traducida)\, organizado en Madrid en colaboración con Casa del Libro (Gran Vía\, n.º 29)\, dentro del proyecto Librerías de Babel. \nEn esta ocasión contaremos con la participación de Pepa Linares\, quien conversará con los lectores sobre su traducción de Arenas movedizas de Nella Larsen. \nOs recordamos que la asistencia es gratuita y que es recomendable leer el libro con antelación. Aunque no es obligatorio\, agradeceremos que os apuntéis; podéis enviar un correo electrónico de confirmación a lecturastraducidas@acett.org. Por último\, no olvidéis que la Casa del Libro de Gran Vía ofrece a los participantes un 5 % de descuento en los libros de las diferentes sesiones del club.
URL:https://ace-traductores.org/actividad/madrid-proxima-sesion-del-club-de-lectura-traducida-7/
LOCATION:Madrid
CATEGORIES:Club de Lectura (Traducida)
ATTACH;FMTTYPE=image/jpeg:https://ace-traductores.org/wp-content/uploads/Club-de-Lectura-2019_2020_VersionFinal.jpg
END:VEVENT
END:VCALENDAR